BEGIN:VCALENDAR
VERSION:2.0
PRODID:-//wp-events-plugin.com//7.2.3.1//EN
TZID:America/New_York
X-WR-TIMEZONE:America/New_York
BEGIN:VEVENT
UID:344@unityhouseny.org
DTSTART:20241024T150000Z
DTEND:20241024T170000Z
DTSTAMP:20240821T191304Z
URL:https://www.unityhouseny.org/events/domestic-violence-awareness-confer
 ence-20/
SUMMARY:Domestic Violence Awareness Conference
DESCRIPTION:Annual Conference for Awareness &amp\; Prevention: A Web-Based 
 Series\nThe conference is free and all are invited to participate in weekl
 y\, interactive webinars held during the month of October\, which marks Do
 mestic Violence Awareness &amp\; Prevention Month.\n\nDates and Topics:\nT
 hursday\, October 3: Animal Welfare and Domestic Violence\nThursday\, Octo
 ber 10: Tech-facilitated Abuse &amp\; Domestic Violence\nThursday\, Octobe
 r 17: Intimate Partner Violence &amp\; COVID-19: The Aftermath &amp\; Ment
 al Health Repercssions\nThursday\, October 24: Supporting Survivors in a C
 riminal Justice Lens\n\nPurple is the signature color of domestic violence
  awareness.\n\nRegistration Link\nAbout Unity House's Domestic Violence Se
 rvices Program:\nThe program offers safe space to all victims of domestic 
 violence. The aim of the conference is to bring awareness to the issue of 
 domestic violence and highlight the resources available when addressing th
 e issue\, discuss the needs of survivors\, and promote the community colla
 borations needed to end domestic violence.\n\nThose interested in particip
 ating in the conference as a provider or community collaborator can contac
 t Unity House's Ali List at (518) 274-2607.\n\nTickets for this free event
  are required and can be found at the registration link.\n\nA reminder tha
 t help is always available.
ATTACH;FMTTYPE=image/jpeg:https://www.unityhouseny.org/wp-content/uploads/
 2024/08/DVA-Conf-Series.jpg
CATEGORIES:Awareness
END:VEVENT
END:VCALENDAR