BEGIN:VCALENDAR
VERSION:2.0
PRODID:-//wp-events-plugin.com//7.2.3.1//EN
TZID:America/New_York
X-WR-TIMEZONE:America/New_York
BEGIN:VEVENT
UID:265@unityhouseny.org
DTSTART:20210527T110000Z
DTEND:20210527T120000Z
DTSTAMP:20210520T145714Z
URL:https://www.unityhouseny.org/events/hoosick-falls-satellite-office-gra
 nd-opening/
SUMMARY:Hoosick Falls Satellite Office: Grand Opening!
DESCRIPTION:Join us for a ribbon cutting at the Hoosick Falls Armory. We'll
  be celebrating the opening of an office\, staffed weekdays by advocates f
 rom the Unity House Domestic Violence Services program. Residents and thos
 e from neighboring communities have access to the site\, which was made po
 ssible through a community partnership with the Hoosick Falls Police Depar
 tment\, the County Office of Aging\, the District Attorney's office\, the 
 Court System\, and other community stakeholders.\n\nLight refreshments wil
 l be provided.\n\nWhere: 80 Church Street\, outside the Hoosick Falls Armo
 ry\n\nThanks for helping us celebrate improved outreach to the more remote
  areas of beautiful Rensselaer County!
ATTACH;FMTTYPE=image/jpeg:https://www.unityhouseny.org/wp-content/uploads/
 2021/05/hoosick-falls-logo.png
CATEGORIES:Open House
END:VEVENT
END:VCALENDAR