BEGIN:VCALENDAR
VERSION:2.0
PRODID:-//wp-events-plugin.com//7.2.3.1//EN
TZID:America/New_York
X-WR-TIMEZONE:America/New_York
BEGIN:VEVENT
UID:302@unityhouseny.org
DTSTART:20250123T110000Z
DTEND:20250123T130000Z
DTSTAMP:20250109T212352Z
URL:https://www.unityhouseny.org/events/intern-orientation/
SUMMARY:Intern Orientation: for registered interns
DESCRIPTION:Registered interns must attend an Intern Orientation on January
  23 at Unity House's Front Door community resource center. The room is the
  4th Floor Boardroom.\nPlease register in advance with Chris Frawley\nCFra
 wley@UnityHouseNY.org\n(518) 274-2607 x4139
ATTACH;FMTTYPE=image/jpeg:https://www.unityhouseny.org/wp-content/uploads/
 2023/05/UnityHouselogo_new.jpg
CATEGORIES:Information Session
LOCATION:The Front Door\, 2431 Sixth Avenue\, Troy\, NY\, 12180\, United St
 ates
GEO:42.74028;-73.6835858
X-APPLE-STRUCTURED-LOCATION;VALUE=URI;X-ADDRESS=2431 Sixth Avenue\, Troy\, 
 NY\, 12180\, United States;X-APPLE-RADIUS=100;X-TITLE=The Front Door:geo:4
 2.74028,-73.6835858
END:VEVENT
END:VCALENDAR