BEGIN:VCALENDAR
VERSION:2.0
PRODID:-//wp-events-plugin.com//7.2.3.1//EN
TZID:America/New_York
X-WR-TIMEZONE:America/New_York
BEGIN:VEVENT
UID:285@unityhouseny.org
DTSTART;VALUE=DATE:20210501
DTEND;VALUE=DATE:20220502
DTSTAMP:20220405T205706Z
URL:https://www.unityhouseny.org/events/troy-rensselaer-crop-hunger-walk/
SUMMARY:Troy/Rensselaer CROP Hunger Walk
DESCRIPTION:Unity House Team in the CROP Walk - Join Us!\nCROP Hunger Walks
  are community centered walks that work to end hunger at home and around t
 he world. Unity House is grateful to TAUM\, the Troy Area United Ministrie
 s\, for organizing the Troy/Rensselaer CROP Walk and we look forward to a 
 great event on May 1\, 2022.\n\nTo join our team\, virtually or in-person\
 , or support the Unity House Team of Walkers\, or to form your own team\, 
 follow this link.\n\nThank you for supporting efforts to address food inse
 curity in our community! 
ATTACH;FMTTYPE=image/jpeg:https://www.unityhouseny.org/wp-content/uploads/
 2021/03/crop-hunger-walk.jpeg
CATEGORIES:Troy Happening
LOCATION:TAUM\, 392 Second St.\, Troy\, NY\, 12180\, United States
GEO:42.71629;-73.69446599999998
X-APPLE-STRUCTURED-LOCATION;VALUE=URI;X-ADDRESS=392 Second St.\, Troy\, NY\
 , 12180\, United States;X-APPLE-RADIUS=100;X-TITLE=TAUM:geo:42.71629,-73.6
 9446599999998
END:VEVENT
END:VCALENDAR